BEGIN:VCALENDAR
VERSION:2.0
PRODID:-//eventon.com NONSGML v1.0//EN
CALSCALE:GREGORIAN
METHOD:PUBLISH
BEGIN:VEVENT
UID:69e74c47ca6ef
DTSTAMP:20260421T100703Z
DTSTART:20260115T183000Z
DTEND:20260115T210000Z
LOCATION:
SUMMARY:ITALIAN GETAWAY
DESCRIPTION:https://philorch.ensembleartsphilly.org/philadelphia-orchestra-
 series-and-subscriptions/orchestra-after-5/italian-getaway\nhttps://ramonca
 rreromartinez.com/events/italian-getaway/
URL:https://ramoncarreromartinez.com/events/italian-getaway/
END:VEVENT
END:VCALENDAR