BEGIN:VCALENDAR
VERSION:2.0
PRODID:-//eventon.com NONSGML v1.0//EN
CALSCALE:GREGORIAN
METHOD:PUBLISH
BEGIN:VEVENT
UID:69e737a4549ec
DTSTAMP:20260421T083900Z
DTSTART:20251109T150000Z
DTEND:20251109T170000Z
LOCATION:6587 Upper York Rd\,  New Hope\,  PA 18938\,  USA 6587 Upper York Rd\,  New Hope\,  PA 18938\,  USA
SUMMARY:Concordia "Friends & Mentors"
DESCRIPTION:https://concordiaplayers.org/tickets/\nhttps://ramoncarreromart
 inez.com/events/concordia-friends-mentors/
URL:https://ramoncarreromartinez.com/events/concordia-friends-mentors/
END:VEVENT
END:VCALENDAR