BEGIN:VCALENDAR
VERSION:2.0
PRODID:-//eventon.com NONSGML v1.0//EN
CALSCALE:GREGORIAN
METHOD:PUBLISH
BEGIN:VEVENT
UID:69e74c230c2ee
DTSTAMP:20260421T100627Z
DTSTART:20251030T193000Z
DTEND:20251030T224500Z
LOCATION:Cathedral School of St John the Divine 1047 Amsterdam Ave\,  New York\,  NY 10025\,  United States Cathedral School of St John the Divine
 1047 Amsterdam Ave\,  New York\,  NY  10025\,  United States
SUMMARY:Metropolis Ensemble Perf. #3
DESCRIPTION:https://balletcollective.com/tickets\nhttps://ramoncarreromarti
 nez.com/events/metropolis-ensemble-perf-3/
URL:https://ramoncarreromartinez.com/events/metropolis-ensemble-perf-3/
END:VEVENT
END:VCALENDAR